Workbook

Sheet Data
B1: data restricted to a list | D1: Pending Acquisition/Disposition | F1: updated | G1: 46063 | J1: Sister Property | O1: Lead Tech, no Maint Super | P1: No maint | X1: Doors | Y1: =SUM(Y3:Y963) -> 22143 | Z1: Other | AA1: =SUM(AA3:AA963) -> 343 | AB1: Sites | AC1: =COUNT(Y3:Y495) -> 152
A2: Division | B2: VP / RVP / Etc. | C2: RM | D2: PROPERTY | E2: Address | F2: City | G2: State | H2: Zip | I2: Property Notes | J2: Sister Property does not reflect on report | K2: Manager | L2: Email | M2: Phone | N2: Fax | O2: Maintenance Super/Lead | P2: Maint Phone | Q2: Maint Email | R2: Area Mgr | S2: Area M cell | T2: Project Mgr | U2: PM cell | V2: Acquisiton | W2: EIN | X2: Legal Name | Y2: Doors (Spaces or Units) | Z2: Other Space Type | AA2: Other Space Count | AB2: County | AC2: Property Type | AD2: Resident Type | AE2: Payables | AF2: Financials | AG2: Compliance | AH2: HUD Annual Recerts
A3: MH | B3: Andrew Fritz | C3: Cheri Goss | D3: APPLE ACRES | E3: 975 E 1175 S | F3: Fruit Height | G3: UT | H3: 84037 | I3: mail: Willow Pines | J3: Willow Pines | K3: Patricia Blake | L3: AppleAcres@ | M3: 801- 391-3931 | O3: Rafaelito Rodriquez | P3: 801-745-5709 | R3: Shayleena Gaitan | S3: 801-618-5750 | T3: Brent Fabian | U3: 949-676-1880 | V3: 43754 | W3: 84-2767474 | X3: Apple Acres MHC,LLC | Y3: 45 | AB3: Davis | AC3: MH Community | AD3: Family/All Age | AE3: Elizabeth Birrueta
A4: MH | B4: Andrew Fritz | C4: Cheri Goss | D4: BONNEVILLE GARDENS | E4: 705 S Redwood Rd | F4: Salt Lake City | G4: UT | H4: 84104 | K4: Simon Muirragui | L4: Bonneville@ | M4: 801-973-8987 | N4: 801-973-8302 | O4: Jairo Castaneda | P4: 801-973-8987 | Q4: Bonneville_tech1@ | R4: Shayleena Gaitan | S4: 801-618-5750 | T4: Brent Fabian | U4: 949-676-1880 | V4: 38961 | W4: 46-0693641 | X4: Bonneville MHC, LLC | Y4: 120 | AB4: Salt Lake | AC4: MH Community | AD4: Family/All Age | AE4: Elizabeth Birrueta
A5: MH | B5: Andrew Fritz | C5: Cheri Goss | D5: CAMBRIDGE COURT | E5: 1350 W 300 N #51A | F5: Clearfield | G5: UT | H5: 84015 | J5: Wood Haven | K5: Mitch Rabenstein | L5: CambridgePark@ | M5: 801-973-8987 | O5: Rafaelito Rodriquez | P5: 801-745-5709 | Q5: CambridgePark_tech1@ | R5: Shayleena Gaitan | S5: 801-618-5750 | T5: Brent Fabian | U5: 949-676-1880 | V5: 43472 | W5: 83-2687542 | X5: Cambridge Court MHC, LLC | Y5: 78 | AB5: Davis | AC5: MH Community | AD5: Family/All Age | AE5: Elizabeth Birrueta
A6: MH | B6: Andrew Fritz | C6: Cheri Goss | D6: CINNAMON RIDGE | E6: 300 E 2500 N | F6: North Logan | G6: UT | H6: 84341 | I6: mail & email: Palatial Living | J6: Palatial Living | K6: Laura Van Noy | M6: 435-799-7618 | O6: George Sisk | P6: 435-232-8825 | Q6: CinnamonRidge_tech1@ | R6: Shayleena Gaitan | S6: 801-618-5750 | T6: Brent Fabian | U6: 949-676-1880 | V6: 44174 | W6: 85-3010477 | X6: Cinnamon Ridge MHC, LLC | Y6: 60 | AB6: Cache | AC6: MH Community | AD6: Family/All Age | AE6: Elizabeth Birrueta
A7: MH | B7: Andrew Fritz | C7: Cheri Goss | D7: COTTONWOOD COVES | E7: 300 E Gordon Ln | F7: Murray | G7: UT | H7: 84107 | K7: Nicolas Cordova | L7: Cottonwood@ | M7: 801-266-2631 | N7: 801-268-6414 | O7: Walter Gavin | P7: 801-647-2187 | R7: Shayleena Gaitan | S7: 801-618-5750 | T7: Brent Fabian | U7: 949-676-1880 | V7: 43157 | W7: 82-3796484 | X7: Cottonwood Coves MHC, LLC | Y7: 176 | AB7: Salt Lake | AC7: MH Community | AD7: Senior/55+ | AE7: Elizabeth Birrueta
A8: MH | B8: Andrew Fritz | C8: Cheri Goss | D8: GREEN ACRES ESTATES | E8: 360 West 400 North | F8: Springville | G8: UT | H8: 84663 | J8: Winchester | K8: Shayleena Gaitan, Area Manager | L8: GreenAcres@ | M8: 385-505-4797 | O8: Juan Gaitan | P8: 801-671-5619 | R8: Shayleena Gaitan | S8: 801-618-5750 | T8: Brent Fabian | U8: 949-676-1880 | V8: 44754 | W8: 88-2598238 | X8: IPG Capital Green Acres MHC, LLC | Y8: 75 | AB8: Utah | AC8: MH Community | AD8: Family/All Age | AE8: Elizabeth Birrueta
A9: MH | B9: Andrew Fritz | C9: Cheri Goss | D9: MONTE VISTA | E9: 4595 S Monte Vista Dr | F9: Salt Lake City | G9: UT | H9: 84123 | I9: mail: PO Box 571468 Murray, UT 84157 | K9: Shellie McHaley | L9: MonteVista@ | M9: 801-268-4401 | O9: Trent McHaley | P9: 801-875-0024 | R9: Shayleena Gaitan | S9: 801-618-5750 | T9: Brent Fabian | U9: 949-676-1880 | V9: 42877 | W9: 82-0901201 | X9: Monte Vista MHC, LLC | Y9: 159 | AB9: Salt Lake | AC9: MH Community | AD9: Senior/55+ | AE9: Elizabeth Birrueta
A10: MH | B10: Andrew Fritz | C10: Cheri Goss | D10: PALATIAL LIVING | E10: 410 W 725 N | F10: Logan | G10: UT | H10: 84321 | J10: Cinnamon Ridge | K10: Laura Van Noy | L10: Palatial@ | M10: 435-899-1754 | O10: George Sisk | P10: 435-232-8825 | R10: Shayleena Gaitan | S10: 801-618-5750 | T10: Brent Fabian | U10: 949-676-1880 | V10: 43847 | W10: 84-3618037 | X10: Palatial Living MHC, LLC | Y10: 122 | AB10: Cache | AC10: MH Community | AD10: Family/All Age | AE10: Elizabeth Birrueta
A11: MH | B11: Andrew Fritz | C11: Cheri Goss | D11: RIDGEWOOD ESTATES | E11: 2875 N Hill Field Rd | F11: Layton | G11: UT | H11: 84041 | K11: Cecilia Avitia-Fiddler | L11: Ridgewood@ | M11: 801-825-5422 | O11: Calvin Honneywell | P11: 385-519-2271 | R11: Shayleena Gaitan | S11: 801-618-5750 | T11: Brent Fabian | U11: 949-676-1880 | V11: 44253 | W11: 85-4212259 | X11: Ridgewood Estates MHC, LLC | Y11: 200 | AB11: Davis | AC11: MH Community | AD11: Family/All Age | AE11: Elizabeth Birrueta
A12: MH | B12: Andrew Fritz | C12: Cheri Goss | D12: TIMPANOGOS VILLAGE | E12: pending Acquisition 155 1200 W | F12: Orem | G12: UT | H12: 84058 | I12: Acquisition est. 3/31 to 5/21 | K12: pending | M12: 801-225-2500 | R12: Shayleena Gaitan | S12: 801-618-5750 | T12: Brent Fabian | U12: 949-676-1880 | Y12: 142 | AB12: Utah | AC12: MH Community | AD12: Family/All Age | AE12: Elizabeth Birrueta
A13: MH | B13: Andrew Fritz | C13: Cheri Goss | D13: WILLOW PINES | E13: 680 N Main St #A-1 | F13: Kaysville | G13: UT | H13: 84037 | J13: Apple Acres | K13: Patricia Blake | L13: WillowPines@ | M13: 801-644-7612 | O13: Rafaelito Rodriquez | P13: 801-745-5709 | R13: Shayleena Gaitan | S13: 801-618-5750 | T13: Brent Fabian | U13: 949-676-1880 | V13: 43658 | W13: 84-1876882 | X13: Willow Pines MHC, LLC | Y13: 120 | Z13: SFR (stick built) | AA13: 1 | AB13: Davis | AC13: MH Community | AD13: Family/All Age | AE13: Elizabeth Birrueta
A14: MH | B14: Andrew Fritz | C14: Cheri Goss | D14: WINCHESTER ESTATES | E14: 6409 S 990 W | F14: Murray | G14: UT | H14: 84123 | J14: Green Acres | K14: Shayleena Gaitan, Area Manager | L14: Winchester@ | M14: 801-262-3101 | N14: 801-401-7835 | O14: Juan Gaitan | P14: 801-671-5619 | R14: Shayleena Gaitan | S14: 801-618-5750 | T14: Brent Fabian | U14: 949-676-1880 | V14: 42380 | W14: 84-21082357 | X14: Winchester MHC, LLC | Y14: 242 | AB14: Salt Lake | AC14: MH Community | AD14: Senior/55+ | AE14: Elizabeth Birrueta
A15: MH | B15: Andrew Fritz | C15: Cheri Goss | D15: WOODHAVEN | E15: 680 W 500 S #45 | F15: West Bountiful | G15: UT | H15: 84087 | I15: mail: Cambridge Court | J15: Cambridge Court | K15: Open Position | L15: WoodHaven@ | M15: 801-631-0009 | O15: Rafaelito Rodriquez | P15: 801-745-5709 | R15: Shayleena Gaitan | S15: 801-618-5750 | T15: Brent Fabian | U15: 949-676-1880 | V15: 43721 | W15: 84-2612645 | X15: Woodhaven MHC ,LLC | Y15: 46 | AB15: Davis | AC15: MH Community | AD15: Family/All Age | AE15: Elizabeth Birrueta
A16: MF | B16: Laura Rivera | C16: Danielle Schingen (2) | D16: BLAISDELL | E16: 2200 Blaisdell Ave S | F16: Minneapolis | G16: MN | H16: 55404 | K16: Corey Burton, Area Manager | L16: Blaisdell@ | M16: 612-872-2489 | O16: Osmar Martinez | Q16: Blaisdell_maint@ | R16: Corey Burton | S16: 763-957-2098 | T16: Mark Prunier | U16: 949-486-7146 | V16: 43627 | W16: 83-4576456 | X16: Blaisdell Portfolio, LLC | Y16: 151 | AB16: Hennepin | AC16: Affordable: TC | AD16: Family/All Age | AE16: George Grant | AF16: Megan Schellhorn | AG16: Melany Pary | AH16: Anniversary
A17: MF | B17: Laura Rivera | C17: Edith Alvarez | D17: SUMMERCREST | E17: 2615 E Plaza Blvd | F17: National City | G17: CA | H17: 91950 | K17: Ronald Muniz | L17: Summercrest_mgr@ | M17: 619-475-2125 | N17: 619-475-8271 | O17: Kenny Hoffman | P17: 760-504-7519 | Q17: Summercrest_maint@ | T17: Mark Prunier | U17: 949-486-7146 | V17: 43132 | W17: 82-3433412 | X17: Summercrest Apartment Associates, LP | Y17: 372 | AB17: San Diego | AC17: Affordable: PB + TC | AD17: Senior & Family | AE17: Bella Walton | AF17: Megan Schellhorn | AG17: Sharon Avellana | AH17: Apr 1st (F) & Jul 1st (S)
A18: MF | B18: Laura Rivera | C18: Edith Alvarez | D18: LENOX SUMMIT | E18: 2449 E Club Dr NE | F18: Brookhaven | G18: GA | H18: 30319 | K18: Clem Mitchell, Area Manager | L18: LenoxSummit@ | M18: 404-231-1580 | N18: 404-231-1580 | O18: Shawn Lassiter | P18: 404-749-8738 | Q18: LenoxSummit_maint@ | R18: Clem Mitchell | S18: 678-358-4341 | T18: Mark Prunier | U18: 949-486-7146 | V18: 43132 | W18: 82-3482748 | X18: Ashton Lenox Summit Apartment Associates, LP | Y18: 212 | AB18: DeKalb | AC18: Affordable: PB + TC | AD18: Elderly/62+ | AE18: Bella Walton | AF18: Megan Schellhorn | AG18: Shaun Broadnax | AH18: Anniversary
A19: MF | B19: Laura Rivera | C19: Edith Alvarez | D19: PARK TRACE | E19: 700 Atlanta Ave | F19: Decatur | G19: GA | H19: 30030 | K19: Shay Barnswel | L19: ParkTrace@ | M19: 404-371-0887 | N19: 404-378-5752 | O19: Shawn Lassiter | P19: 404-749-8738 | Q19: ParkTrace_maint@ | R19: Clem Mitchell | S19: 678-358-4341 | T19: Mark Prunier | U19: 949-486-7146 | V19: 43132 | W19: 82-3454564 | X19: Park Trace Apartment Associates, LP | Y19: 170 | AB19: DeKalb | AC19: Affordable: PB + TC | AD19: Elderly/62+/Disabled | AE19: Bella Walton | AF19: Megan Schellhorn | AG19: Shaun Broadnax | AH19: Anniversary
A20: MF | B20: Laura Rivera | C20: Edith Alvarez | D20: KAPUNA ONE | E20: 1015 N School Street | F20: Honolulu | G20: HI | H20: 96817 | K20: Sherry Prevo | L20: Kapuna@ | M20: 808-845-2130 | N20: 808-845-6684 | O20: Conan Palimo'o -Kahue | P20: 808-725-0928 | Q20: Kapuna_maint@ | T20: Mark Prunier | U20: 949-486-7146 | V20: 41204 | W20: 82-3548686 | X20: Kapuna Apartments Associates, LP | Y20: 162 | AB20: Honolulu | AC20: Affordable: PB + TC | AD20: Elderly/62+ | AE20: Bella Walton | AF20: Megan Schellhorn | AG20: Shaun Broadnax | AH20: Anniversary
A21: MF | B21: Laura Rivera | C21: Edith Alvarez | D21: OAKLAND PARK TOWERS II | E21: 930 John R Rd | F21: Troy | G21: MI | H21: 48083 | K21: Cathy Wilbur, Area Manager | L21: OaklandPark@ | M21: 248-585-9340 | N21: 248-585-5629 | O21: Andrew Collier | P21: 313-452-4199 | Q21: OPTmaintenance@ | R21: Cathy Wilbur | S21: 248-825-5249 | T21: Mark Prunier | U21: 949-486-7146 | V21: 40513 | W21: 82-4428801 | X21: Oakland Park Towers II Limited Dividend Housing Associates, LP | Y21: 300 | AB21: Oakland | AC21: Affordable: PB + TC | AD21: Senior/55+ | AE21: Bella Walton | AF21: Megan Schellhorn | AG21: Shaun Broadnax | AH21: Anniversary
A22: MF | B22: Laura Rivera | C22: Edith Alvarez | D22: WHISPERING WOODS | E22: 1450 Whispering Woods Dr | F22: Waterford | G22: MI | H22: 48327 | K22: Vivenne Henry | L22: Whispering@ | M22: 248-363-2775 | N22: 248-363-3419 | O22: Brandon Spicer | P22: 586-260-2921 | Q22: Whispering_maint@ | T22: Mark Prunier | U22: 949-486-7146 | V22: 43132 | W22: 47-3010756 | X22: Whispering Woods Limited Dividend Housing Association, LLC | Y22: 192 | AB22: Oakland | AC22: Affordable: PB | AD22: Family/All Age | AE22: Bella Walton | AF22: Megan Schellhorn | AG22: Shaun Broadnax | AH22: Anniversary
A23: MF | B23: Laura Rivera | C23: Edith Alvarez | D23: PARKVIEW | E23: 1121 N 12th Ave | F23: Minneapolis | G23: MN | H23: 55411 | K23: Shabnam Hakim | L23: Parkview@ | M23: 612-377-4050 | N23: 612-377-1497 | O23: James Gbanjah | P23: 651-797-8716 | Q23: Parkview_maint@ | R23: Cathy Wilbur | S23: 248-825-5249 | T23: Mark Prunier | U23: 949-486-7146 | V23: 40756 | W23: 83-3080110 | X23: Parkview Apartment Associates, LP | Y23: 224 | AB23: Hennepin | AC23: Affordable: PB + TC | AD23: Family/All Age | AE23: Bella Walton | AF23: Megan Schellhorn | AG23: Melany Pary | AH23: Anniversary
A24: MF | B24: Laura Rivera | C24: Edith Alvarez | D24: ASPEN RIVER PARK | E24: 17 Oxford St | F24: Newark | G24: NJ | H24: 07105 | K24: Open Position | L24: AspenRiverpark@ | M24: 973-465-0360 | N24: 973-465-1937 | O24: James Spearman | Q24: Aspen_maint@ | R24: Cathy Wilbur | S24: 248-825-5249 | T24: Mark Prunier | U24: 949-486-7146 | V24: 42744 | W24: 46-5083318 | X24: Aspen Riverpark Associates, LP | Y24: 261 | Z24: Commercial | AA24: 5 | AB24: Essex | AC24: Affordable: PB + TC | AD24: Senior & Family | AE24: Bella Walton | AF24: Megan Schellhorn | AG24: Melany Pary | AH24: Anniversary
A25: MF | B25: Laura Rivera | C25: Edith Alvarez | D25: IDLEWILD CREEK | E25: 1 Landmark Dr | F25: Cornwall | G25: NY | H25: 12518 | K25: Fred Jones | L25: Idlewild@ | M25: 845-534-2333 | N25: 845-534-2299 | O25: Open Position | Q25: Idlewild_maint@ | T25: Mark Prunier | U25: 949-486-7146 | V25: 42356 | W25: 47-4368970 | X25: Idlewild Creek Apartments, LP | Y25: 215 | AB25: Orange | AC25: Conventional | AD25: Senior/55+ | AE25: Bella Walton | AF25: Megan Schellhorn
A26: MH | B26: Laura Rivera | C26: Melanie Fink | D26: ALPINE MOBILE ESTATES | E26: 7300 32nd Ave NE, #10 | F26: Olympia | G26: WA | H26: 98516 | K26: Marshelle Casano | L26: AlpineEstates@ | M26: 360-491-8577 | O26: Dan Buck | T26: Chris Bowden | U26: 949-486-7153 | V26: 44186 | W26: 85-4134408 | X26: Alpine Mobile Estates MHC, LLC | Y26: 50 | AB26: Thurston | AC26: MH Community | AD26: Senior/55+ | AE26: Deborah Kemp
A27: MH | B27: Laura Rivera | C27: Melanie Fink | D27: AUBURN GREEN | E27: 602 29th St Se | F27: Auburn | G27: WA | H27: 98002 | K27: John Bristol | L27: Auburn@ | M27: 253-735-1940 | O27: DeJesus Filogonio | Q27: Auburn_maint@ | T27: Chris Bowden | U27: 949-486-7153 | V27: 38519 | W27: 59-3805590 | X27: Auburn Green MHC, LLC | Y27: 100 | AB27: King | AC27: MH Community | AD27: Family/All Age | AE27: Deborah Kemp
A28: MH | B28: Laura Rivera | C28: Melanie Fink | D28: AUBURN HILLS | E28: 31101 116th Ave Se #72 | F28: Auburn | G28: WA | H28: 98092 | K28: Robinn Turner | L28: AuburnHills@ | M28: 253-939-7975 | T28: Chris Bowden | U28: 949-486-7153 | V28: 45992 | W28: 39-4821703 | X28: Auburn Hills MHC, LLC | Y28: 99 | AB28: King | AC28: MH Community | AD28: Family/All Age | AE28: Deborah Kemp
A29: MH | B29: Laura Rivera | C29: Melanie Fink | D29: CAMELOT ESTATES | E29: 5307 State Hwy 303 NE #170 | F29: Bremerton | G29: WA | H29: 98311 | K29: Renee West | L29: Camelot@ | M29: 360-373-6767 | O29: Sean Dawson | T29: Chris Bowden | U29: 949-486-7153 | V29: 42933 | W29: 82-2176626 | X29: Camelot Estates MHC, LLC | Y29: 155 | AB29: Kitsap | AC29: MH Community | AD29: Family/All Age | AE29: Deborah Kemp
A30: MH | B30: Laura Rivera | C30: Melanie Fink | D30: CRYSTAL POINTE | E30: 8111 195th St E #28 | F30: Spanaway | G30: WA | H30: 98387 | J30: Viking Estates | K30: Jill Frost | L30: Crystal@ | M30: 253-847-4054 | O30: James Nace | P30: 253-761-6423 | T30: Chris Bowden | U30: 949-486-7153 | V30: 38390 | W30: 73-1724916 | X30: Crystal Pointe MHC, LLC | Y30: 151 | AB30: Pierce | AC30: MH Community | AD30: Family/All Age | AE30: Deborah Kemp
A31: MH | B31: Laura Rivera | C31: Melanie Fink | D31: GOLDEN VALLEY | E31: 6505 241st Ave E | F31: Buckley | G31: WA | H31: 98321 | K31: Pam Huihui | L31: GoldenValley@ | M31: 253-862-9995 | T31: Chris Bowden | U31: 949-486-7153 | V31: 38916 | W31: 47-3853879 | X31: Golden Valley MHC, LLC | Y31: 100 | AB31: Pierce | AC31: MH Community | AD31: Senior/55+ | AE31: Deborah Kemp
A32: MH | B32: Laura Rivera | C32: Melanie Fink | D32: HEATHER HILLS | E32: 2500 Alder Street | F32: Milton | G32: WA | H32: 98354 | K32: Julie Dunkin | L32: HeatherHills@ | M32: 253-862-7300 | O32: Kyle Johnson | T32: Chris Bowden | U32: 949-486-7153 | V32: 43353 | W32: 83-1602449 | X32: Heather Hills MHC, LLC | Y32: 130 | AB32: Pierce | AC32: MH Community | AD32: Senior/55+ | AE32: Deborah Kemp
A33: MH | B33: Laura Rivera | C33: Melanie Fink | D33: HIDDEN GLEN ESTATES | E33: 15616 76th Ave E | F33: Puyallup | G33: WA | H33: 98375 | K33: Heather Majors | L33: HiddenGlen@ | M33: 253-537-9383 | O33: Miguel Flores | T33: Chris Bowden | U33: 949-486-7153 | V33: 38467 | W33: 84-1675721 | X33: Hidden Glen MHC, LLC | Y33: 195 | AB33: Pierce | AC33: MH Community | AD33: Family/All Age | AE33: Deborah Kemp
A34: MH | B34: Laura Rivera | C34: Melanie Fink | D34: MAJESTIC MOBILE MANOR | E34: 6906 52nd St Ct E | F34: Puyallup | G34: WA | H34: 98371 | K34: Selina Graydon | L34: Majestic@ | M34: 253-845-3144 | O34: Joey Patton | T34: Chris Bowden | U34: 949-486-7153 | V34: 43671 | W34: 83-4382217 | X34: Majestic MHC,LLC | Y34: 65 | Z34: RV Park | AA34: 107 | AB34: Pierce | AC34: MH Community | AD34: Senior/55+ | AE34: Deborah Kemp
A35: MH | B35: Laura Rivera | C35: Melanie Fink | D35: RIO VERDE MOBILE ESTATES | E35: 1402 22nd St NE #200 | F35: Auburn | G35: WA | H35: 98002 | K35: Sara Forsythe | L35: RioVerde@ | M35: 253-833-7333 | O35: Micah Denby | T35: Chris Bowden | U35: 949-486-7153 | V35: 38989 | W35: 38-3739664 | X35: Rio Verde MHC, LLC | Y35: 287 | AB35: King | AC35: MH Community | AD35: Senior/55+ | AE35: Deborah Kemp
A36: MH | B36: Laura Rivera | C36: Melanie Fink | D36: SKYLARK VILLAGE ESTATES I | E36: 900 29th St SE | F36: Auburn | G36: WA | H36: 98002 | J36: Skylark II (PM only) | K36: Shannon Lehigh | L36: Skylark@ | M36: 253-833-6910 | O36: Nicholas Morales | Q36: Skylark_tech1@ | T36: Chris Bowden | U36: 949-486-7153 | V36: 40147 | W36: 80-0503902 | X36: Skylark Village MHC, LLC | Y36: 141 | AB36: King | AC36: MH Community | AD36: Senior/55+ | AE36: Deborah Kemp
A37: MH | B37: Laura Rivera | C37: Melanie Fink | D37: SKYLARK VILLAGE ESTATES II | E37: 3105 M Street SE | F37: Auburn | G37: WA | H37: 98002 | I37: mail: Skylark Village Estates I | J37: Skylark I (PM only) | K37: Shannon Lehigh | L37: Skylark@ | M37: 253-833-6910 | O37: Angel Jimenez | Q37: Skylark_tech2@ | T37: Chris Bowden | U37: 949-486-7153 | V37: 40147 | W37: 80-0503902 | X37: Skylark Village MHC, LLC | Y37: 116 | AB37: King | AC37: MH Community | AD37: Family/All Age | AE37: Deborah Kemp
A38: MH | B38: Laura Rivera | C38: Melanie Fink | D38: TACOMA COUNTRY ESTATES | E38: 3116 36th Ave E | F38: Tacoma | G38: WA | H38: 98443 | I38: FedEx: 2912 35th Ave Ct E #33 | K38: Jeanne Pena | L38: Tacoma@ | M38: 253-517-8588 | T38: Chris Bowden | U38: 949-486-7153 | V38: 39591 | W38: 11-3840259 | X38: Tacoma Country Estates MHC, LLC | Y38: 85 | AB38: Pierce | AC38: MH Community | AD38: Senior/55+ | AE38: Deborah Kemp
A39: MH | B39: Laura Rivera | C39: Melanie Fink | D39: VIKING ESTATES | E39: 12303 152nd Street Ct E | F39: Puyallup | G39: WA | H39: 98374 | I39: mail: Crystal Pointe | J39: Crystal Pointe | K39: Jillene Frost | L39: Crystal@ | M39: 253-847-4054 | O39: James Nace | T39: Chris Bowden | U39: 949-486-7153 | V39: 43789 | W39: 22-3955346 | X39: Viking Estates MHC, LLC | Y39: 75 | AB39: Pierce | AC39: MH Community | AD39: Senior/55+ | AE39: Deborah Kemp
A40: MH | B40: Laura Rivera | C40: Melanie Fink | D40: WHITE RIVER ESTATES | E40: 4248 A St SE | F40: Auburn | G40: WA | H40: 98002 | K40: Anna Puccino | L40: WhiteRiver@ | M40: 253-833-7188 | O40: Randall Stitt | T40: Chris Bowden | U40: 949-486-7153 | V40: 38783 | W40: 61-1624732 | X40: White River MHC, LLC | Y40: 205 | AB40: King | AC40: MH Community | AD40: Family/All Age | AE40: Deborah Kemp
...

Sheet Lists
A1: Resident Type | C1: Property Type | E1: Area Manager | F1: AM Cell | H1: Project Manager | I1: PM Cell
A2: Family/All Age | C2: Affordable: PB | E2: Ceairra Cardriche | F2: 651-398-8823 | H2: Brent Fabian | I2: 949-676-1880
A3: Senior & Family | C3: Affordable: PB + TC | E3: Shayleena Gaitan | F3: 801-618-5750 | H3: Chris Bowden | I3: 949-486-7153
A4: Senior/55+ | C4: Affordable: PB + TC + RD | E4: Cathy Wilbur | F4: 248-825-5249 | H4: Mark Prunier | I4: 949-486-7146
A5: Elderly/62+ | C5: Affordable: TC | E5: Clem Mitchell | F5: 678-358-4341 | H5: Nicholas Gardner | I5: 949-486-7121
C6: Conventional | E6: Corey Burton | F6: 763-957-2098
C7: MH Community | E7: Chris Hill | F7: 805-603-8240
A20: Payables | C20: Financials
A21: Bella Walton | C21: Megan Schellhorn | E21: Complaince
A22: Deborah Kemp | E22: Melany Pary
A23: Elizabeth Birrueta | E23: Shaun Broadnax
A24: George Grant | E24: Sharon Avellana

Sheet Supervisors
E1: TOTALS | F1: =SUM(F2:F19) -> 22143 | G1: =SUM(G2:G19) -> 343 | H1: =SUM(H2:H19) -> 22486 | I1: =SUM(I2:I19) -> 152
A2: REGIONAL MANAGERS | C2: TITLE | D2: Phone # | E2: Email | F2: # of Doors | G2: # of other | H2: TOTAL | I2: # of Sites
A3: Cheri Goss | D3: 949-486-7157 | E3: CGoss@ipgliving.com | F3: =SUMIF(Data!$C$3:$C$495,A3,Data!$Y$3:$Y$495) -> 1585 | G3: =SUMIF(Data!$C$3:$C$495,A3,Data!$AA$3:$AA$495) -> 1 | H3: =SUM(F3:G3) -> 1586 | I3: =COUNTIF(Data!$C$3:$C$495,Supervisors!A3) -> 13 | J3: =CONCATENATE(A3,B3,C3," ",D3," ",E3," Portfolio: ",H3," / ",I3," Properties") -> Cheri Goss 949-486-7157 CGoss@ipgliving.com Portfolio: 1586 / 13 Properties
A4: Danielle Schingen (1) | D4: 949-486-7138 | E4: DSchingen@ipgliving.com | F4: =SUMIF(Data!$C$3:$C$495,A4,Data!$Y$3:$Y$495) -> 1371 | G4: =SUMIF(Data!$C$3:$C$495,A4,Data!$AA$3:$AA$495) -> 0 | H4: =SUM(F4:G4) -> 1371 | I4: =COUNTIF(Data!$C$3:$C$495,Supervisors!A4) -> 10 | J4: =CONCATENATE(A4,B4,C4," ",D4," ",E4," Portfolio: ",H4," / ",I4," Properties") -> Danielle Schingen (1) 949-486-7138 DSchingen@ipgliving.com Portfolio: 1371 / 10 Properties
A5: Danielle Schingen (2) | D5: 949-486-7138 | E5: DSchingen@ipgliving.com | F5: =SUMIF(Data!$C$3:$C$495,A5,Data!$Y$3:$Y$495) -> 151 | G5: =SUMIF(Data!$C$3:$C$495,A5,Data!$AA$3:$AA$495) -> 0 | H5: =SUM(F5:G5) -> 151 | I5: =COUNTIF(Data!$C$3:$C$495,Supervisors!A5) -> 1 | J5: =CONCATENATE(A5,B5,C5," ",D5," ",E5," Portfolio: ",H5," / ",I5," Properties") -> Danielle Schingen (2) 949-486-7138 DSchingen@ipgliving.com Portfolio: 151 / 1 Properties
A6: Edith Alvarez | D6: 949-676‐1878 | E6: EAlvarez@ipgliving.com | F6: =SUMIF(Data!$C$3:$C$495,A6,Data!$Y$3:$Y$495) -> 2108 | G6: =SUMIF(Data!$C$3:$C$495,A6,Data!$AA$3:$AA$495) -> 5 | H6: =SUM(F6:G6) -> 2113 | I6: =COUNTIF(Data!$C$3:$C$495,Supervisors!A6) -> 9 | J6: =CONCATENATE(A6,B6,C6," ",D6," ",E6," Portfolio: ",H6," / ",I6," Properties") -> Edith Alvarez 949-676‐1878 EAlvarez@ipgliving.com Portfolio: 2113 / 9 Properties
A7: Hannah Porter | D7: 949-486-7120 | E7: HPorter@ipgliving.com | F7: =SUMIF(Data!$C$3:$C$495,A7,Data!$Y$3:$Y$495) -> 786 | G7: =SUMIF(Data!$C$3:$C$495,A7,Data!$AA$3:$AA$495) -> 0 | H7: =SUM(F7:G7) -> 786 | I7: =COUNTIF(Data!$C$3:$C$495,Supervisors!A7) -> 5 | J7: =CONCATENATE(A7,B7,C7," ",D7," ",E7," Portfolio: ",H7," / ",I7," Properties") -> Hannah Porter 949-486-7120 HPorter@ipgliving.com Portfolio: 786 / 5 Properties
A8: Jeannette Lockwood | D8: 949-486-7148 | E8: JLockwood@ipgliving.com | F8: =SUMIF(Data!$C$3:$C$495,A8,Data!$Y$3:$Y$495) -> 1245 | G8: =SUMIF(Data!$C$3:$C$495,A8,Data!$AA$3:$AA$495) -> 0 | H8: =SUM(F8:G8) -> 1245 | I8: =COUNTIF(Data!$C$3:$C$495,Supervisors!A8) -> 10 | J8: =CONCATENATE(A8,B8,C8," ",D8," ",E8," Portfolio: ",H8," / ",I8," Properties") -> Jeannette Lockwood 949-486-7148 JLockwood@ipgliving.com Portfolio: 1245 / 10 Properties
A9: Jennifer Peters | D9: 949-486-7122 | E9: JPeters@ipgliving.com | F9: =SUMIF(Data!$C$3:$C$495,A9,Data!$Y$3:$Y$495) -> 1534 | G9: =SUMIF(Data!$C$3:$C$495,A9,Data!$AA$3:$AA$495) -> 0 | H9: =SUM(F9:G9) -> 1534 | I9: =COUNTIF(Data!$C$3:$C$495,Supervisors!A9) -> 11 | J9: =CONCATENATE(A9,B9,C9," ",D9," ",E9," Portfolio: ",H9," / ",I9," Properties") -> Jennifer Peters 949-486-7122 JPeters@ipgliving.com Portfolio: 1534 / 11 Properties
A10: Jessica Hensley | D10: 949-486-7173 | E10: JHensley@ipgliving.com | F10: =SUMIF(Data!$C$3:$C$495,A10,Data!$Y$3:$Y$495) -> 1572 | G10: =SUMIF(Data!$C$3:$C$495,A10,Data!$AA$3:$AA$495) -> 24 | H10: =SUM(F10:G10) -> 1596 | I10: =COUNTIF(Data!$C$3:$C$495,Supervisors!A10) -> 11 | J10: =CONCATENATE(A10,B10,C10," ",D10," ",E10," Portfolio: ",H10," / ",I10," Properties") -> Jessica Hensley 949-486-7173 JHensley@ipgliving.com Portfolio: 1596 / 11 Properties
A11: Josh Van Noy | D11: 949-676-1881 | E11: JVanNoy@ipgliving.com | F11: =SUMIF(Data!$C$3:$C$495,A11,Data!$Y$3:$Y$495) -> 2034 | G11: =SUMIF(Data!$C$3:$C$495,A11,Data!$AA$3:$AA$495) -> 132 | H11: =SUM(F11:G11) -> 2166 | I11: =COUNTIF(Data!$C$3:$C$495,Supervisors!A11) -> 14 | J11: =CONCATENATE(A11,B11,C11," ",D11," ",E11," Portfolio: ",H11," / ",I11," Properties") -> Josh Van Noy 949-676-1881 JVanNoy@ipgliving.com Portfolio: 2166 / 14 Properties
A12: open - Jeanette covering | F12: =SUMIF(Data!$C$3:$C$495,A12,Data!$Y$3:$Y$495) -> 390 | G12: =SUMIF(Data!$C$3:$C$495,A12,Data!$AA$3:$AA$495) -> 68 | H12: =SUM(F12:G12) -> 458 | I12: =COUNTIF(Data!$C$3:$C$495,Supervisors!A12) -> 3 | J12: =CONCATENATE(A12,B12,C12," ",D12," ",E12," Portfolio: ",H12," / ",I12," Properties") -> open - Jeanette covering Portfolio: 458 / 3 Properties
A13: open - Jessica covering | F13: =SUMIF(Data!$C$3:$C$495,A13,Data!$Y$3:$Y$495) -> 769 | G13: =SUMIF(Data!$C$3:$C$495,A13,Data!$AA$3:$AA$495) -> 0 | H13: =SUM(F13:G13) -> 769 | I13: =COUNTIF(Data!$C$3:$C$495,Supervisors!A13) -> 5 | J13: =CONCATENATE(A13,B13,C13," ",D13," ",E13," Portfolio: ",H13," / ",I13," Properties") -> open - Jessica covering Portfolio: 769 / 5 Properties
A14: open - Scott covering | F14: =SUMIF(Data!$C$3:$C$495,A14,Data!$Y$3:$Y$495) -> 254 | G14: =SUMIF(Data!$C$3:$C$495,A14,Data!$AA$3:$AA$495) -> 0 | H14: =SUM(F14:G14) -> 254 | I14: =COUNTIF(Data!$C$3:$C$495,Supervisors!A14) -> 2 | J14: =CONCATENATE(A14,B14,C14," ",D14," ",E14," Portfolio: ",H14," / ",I14," Properties") -> open - Scott covering Portfolio: 254 / 2 Properties
A15: Melanie Fink | D15: 949-486-7161 | E15: MFink@ipgliving.com | F15: =SUMIF(Data!$C$3:$C$495,A15,Data!$Y$3:$Y$495) -> 1954 | G15: =SUMIF(Data!$C$3:$C$495,A15,Data!$AA$3:$AA$495) -> 107 | H15: =SUM(F15:G15) -> 2061 | I15: =COUNTIF(Data!$C$3:$C$495,Supervisors!A15) -> 15 | J15: =CONCATENATE(A15,B15,C15," ",D15," ",E15," Portfolio: ",H15," / ",I15," Properties") -> Melanie Fink 949-486-7161 MFink@ipgliving.com Portfolio: 2061 / 15 Properties
A16: Melina Miramonte | D16: 949-486-7151 | E16: MMiramonte@ipgliving.com | F16: =SUMIF(Data!$C$3:$C$495,A16,Data!$Y$3:$Y$495) -> 1867 | G16: =SUMIF(Data!$C$3:$C$495,A16,Data!$AA$3:$AA$495) -> 1 | H16: =SUM(F16:G16) -> 1868 | I16: =COUNTIF(Data!$C$3:$C$495,Supervisors!A16) -> 10 | J16: =CONCATENATE(A16,B16,C16," ",D16," ",E16," Portfolio: ",H16," / ",I16," Properties") -> Melina Miramonte 949-486-7151 MMiramonte@ipgliving.com Portfolio: 1868 / 10 Properties
A17: Scott Succo | D17: 949-486-7159 | E17: SSucco@ipgliving.com | F17: =SUMIF(Data!$C$3:$C$495,A17,Data!$Y$3:$Y$495) -> 1208 | G17: =SUMIF(Data!$C$3:$C$495,A17,Data!$AA$3:$AA$495) -> 5 | H17: =SUM(F17:G17) -> 1213 | I17: =COUNTIF(Data!$C$3:$C$495,Supervisors!A17) -> 12 | J17: =CONCATENATE(A17,B17,C17," ",D17," ",E17," Portfolio: ",H17," / ",I17," Properties") -> Scott Succo 949-486-7159 SSucco@ipgliving.com Portfolio: 1213 / 12 Properties
A18: Toni Piccolo | D18: 949-486-7162 | E18: TPiccolo@ipgliving.com | F18: =SUMIF(Data!$C$3:$C$495,A18,Data!$Y$3:$Y$495) -> 1299 | G18: =SUMIF(Data!$C$3:$C$495,A18,Data!$AA$3:$AA$495) -> 0 | H18: =SUM(F18:G18) -> 1299 | I18: =COUNTIF(Data!$C$3:$C$495,Supervisors!A18) -> 8 | J18: =CONCATENATE(A18,B18,C18," ",D18," ",E18," Portfolio: ",H18," / ",I18," Properties") -> Toni Piccolo 949-486-7162 TPiccolo@ipgliving.com Portfolio: 1299 / 8 Properties
A19: Valerie Avila | D19: 949-486-7175 | E19: VAvila@ipgliving.com | F19: =SUMIF(Data!$C$3:$C$495,A19,Data!$Y$3:$Y$495) -> 2016 | G19: =SUMIF(Data!$C$3:$C$495,A19,Data!$AA$3:$AA$495) -> 0 | H19: =SUM(F19:G19) -> 2016 | I19: =COUNTIF(Data!$C$3:$C$495,Supervisors!A19) -> 13 | J19: =CONCATENATE(A19,B19,C19," ",D19," ",E19," Portfolio: ",H19," / ",I19," Properties") -> Valerie Avila 949-486-7175 VAvila@ipgliving.com Portfolio: 2016 / 13 Properties
A21: PRESIDENT/VP/RVP/Etc. | C21: TITLE | D21: Phone # | E21: Email | F21: # of Doors | G21: # of other | H21: TOTAL | I21: # of Sites
A22: Julie Rodriguez | B22: , | C22: President | D22: 949-486-7141 | E22: JRodriguez@ipgliving.com | F22: =SUMIF(Data!$B$3:$B$495,A22,Data!$Y$3:$Y$495) -> 0 | G22: =SUMIF(Data!$B$3:$B$495,A22,Data!$AA$3:$AA$495) -> 0 | H22: =SUM(F22:G22) -> 0 | I22: =COUNTIF(Data!$B$3:$C$495,Supervisors!A22) -> 0 | J22: =CONCATENATE(A22,B22,C22," ",D22," ",E22," Portfolio: ",H22," / ",I22," Properties") -> Julie Rodriguez, President 949-486-7141 JRodriguez@ipgliving.com Portfolio: 0 / 0 Properties
A23: Tanya Vidaurri | B23: , | C23: Vice President of Property Management | D23: 949-535-3003 | E23: TVidaurri@ipgliving.com | F23: =SUMIF(Data!$B$3:$B$495,A23,Data!$Y$3:$Y$495) -> 6972 | G23: =SUMIF(Data!$B$3:$B$495,A23,Data!$AA$3:$AA$495) -> 97 | H23: =SUM(F23:G23) -> 7069 | I23: =COUNTIF(Data!$B$3:$C$495,Supervisors!A23) -> 54 | J23: =CONCATENATE(A23,B23,C23," ",D23," ",E23," Portfolio: ",H23," / ",I23," Properties") -> Tanya Vidaurri, Vice President of Property Management 949-535-3003 TVidaurri@ipgliving.com Portfolio: 7069 / 54 Properties
A24: Laura Rivera | B24: , | C24: Vice President of Affordability & Compliance | D24: 949-486-7152 | E24: LRivera@ipgliving.com | F24: =SUMIF(Data!$B$3:$B$495,A24,Data!$Y$3:$Y$495) -> 8096 | G24: =SUMIF(Data!$B$3:$B$495,A24,Data!$AA$3:$AA$495) -> 113 | H24: =SUM(F24:G24) -> 8209 | I24: =COUNTIF(Data!$B$3:$C$495,Supervisors!A24) -> 48 | J24: =CONCATENATE(A24,B24,C24," ",D24," ",E24," Portfolio: ",H24," / ",I24," Properties") -> Laura Rivera, Vice President of Affordability & Compliance 949-486-7152 LRivera@ipgliving.com Portfolio: 8209 / 48 Properties
A25: Rashelle Wedgwood | B25: , | C25: Regional Vice President | D25: 949-486-7135 | E25: RWedgwood@ipgliving.com | F25: =SUMIF(Data!$B$3:$B$495,A25,Data!$Y$3:$Y$495) -> 5490 | G25: =SUMIF(Data!$B$3:$B$495,A25,Data!$AA$3:$AA$495) -> 132 | H25: =SUM(F25:G25) -> 5622 | I25: =COUNTIF(Data!$B$3:$C$495,Supervisors!A25) -> 37 | J25: =CONCATENATE(A25,B25,C25," ",D25," ",E25," Portfolio: ",H25," / ",I25," Properties") -> Rashelle Wedgwood, Regional Vice President 949-486-7135 RWedgwood@ipgliving.com Portfolio: 5622 / 37 Properties
A26: Andrew Fritz | B26: , | C26: General Counsel & Regional Supervisor | D26: 949-266-9499 | E26: AFritz@ipgliving.com | F26: =SUMIF(Data!$B$3:$B$495,A26,Data!$Y$3:$Y$495) -> 1585 | G26: =SUMIF(Data!$B$3:$B$495,A26,Data!$AA$3:$AA$495) -> 1 | H26: =SUM(F26:G26) -> 1586 | I26: =COUNTIF(Data!$B$3:$C$495,Supervisors!A26) -> 13 | J26: =CONCATENATE(A26,B26,C26," ",D26," ",E26," Portfolio: ",H26," / ",I26," Properties") -> Andrew Fritz, General Counsel & Regional Supervisor 949-266-9499 AFritz@ipgliving.com Portfolio: 1586 / 13 Properties

Sheet Prop Data for Print
A1: VP | B1: RM | C1: PROPERTY/ ADDRESS | D1: CONTACT INFO | E1: MANAGER/STAFF | F1: Maintenance | G1: Area Manager | H1: Project Manager | I1: Acquisition | J1: Units / County | K1: Property Type | L1: Compliance | M1: Accounting | Q1: When "REF!" shows - copy row 2, paste to all below
A2: =Data!B3 -> Andrew Fritz | B2: =Data!C3 -> Cheri Goss | C2: =CONCATENATE(Data!D3,CHAR(10),Data!E3,CHAR(10),Data!F3, ", ",Data!G3," ",Data!H3) -> APPLE ACRES 975 E 1175 S Fruit Height, UT 84037 | D2: =CONCATENATE(Data!L3,CHAR(10),"PH: ",Data!M3,CHAR(10),"Fax: ",Data!N3) -> AppleAcres@ PH: 801- 391-3931 Fax: | E2: =CONCATENATE(Data!K3,CHAR(10),Data!I3) -> Patricia Blake mail: Willow Pines | F2: =CONCATENATE(Data!O3,CHAR(10),Data!P3,CHAR(10),Data!Q3) -> Rafaelito Rodriquez 801-745-5709 | G2: =CONCATENATE(Data!R3,CHAR(10),Data!S3) -> Shayleena Gaitan 801-618-5750 | H2: =CONCATENATE(Data!T3,CHAR(10),Data!U3) -> Brent Fabian 949-676-1880 | I2: =CONCATENATE(IF(Data!V3<>"",TEXT(Data!V3,"mm-dd-yyy"),""),CHAR(10),Data!W3,CHAR(10),Data!X3) -> 10-16-2019 84-2767474 Apple Acres MHC,LLC | J2: =IF(ISBLANK(Data!Z3),(Data!Y3&CHAR(10)&Data!AB3),(Data!Y3&CHAR(10)&Data!AA3&Data!Z3&CHAR(10)&Data!AB3)) -> 45 Davis | K2: =CONCATENATE(Data!AC3,CHAR(10),Data!AD3) -> MH Community Family/All Age | L2: =CONCATENATE(Data!AG3,CHAR(10),Data!AH3) | M2: =CONCATENATE(Data!AE3,CHAR(10),Data!AF3) -> Elizabeth Birrueta
A3: =Data!B4 -> Andrew Fritz | B3: =Data!C4 -> Cheri Goss | C3: =CONCATENATE(Data!D4,CHAR(10),Data!E4,CHAR(10),Data!F4, ", ",Data!G4," ",Data!H4) -> BONNEVILLE GARDENS 705 S Redwood Rd Salt Lake City, UT 84104 | D3: =CONCATENATE(Data!L4,CHAR(10),"PH: ",Data!M4,CHAR(10),"Fax: ",Data!N4) -> Bonneville@ PH: 801-973-8987 Fax: 801-973-8302 | E3: =CONCATENATE(Data!K4,CHAR(10),Data!I4) -> Simon Muirragui | F3: =CONCATENATE(Data!O4,CHAR(10),Data!P4,CHAR(10),Data!Q4) -> Jairo Castaneda 801-973-8987 Bonneville_tech1@ | G3: =CONCATENATE(Data!R4,CHAR(10),Data!S4) -> Shayleena Gaitan 801-618-5750 | H3: =CONCATENATE(Data!T4,CHAR(10),Data!U4) -> Brent Fabian 949-676-1880 | I3: =CONCATENATE(IF(Data!V4<>"",TEXT(Data!V4,"mm-dd-yyy"),""),CHAR(10),Data!W4,CHAR(10),Data!X4) -> 09-01-2006 46-0693641 Bonneville MHC, LLC | J3: =IF(ISBLANK(Data!Z4),(Data!Y4&CHAR(10)&Data!AB4),(Data!Y4&CHAR(10)&Data!AA4&Data!Z4&CHAR(10)&Data!AB4)) -> 120 Salt Lake | K3: =CONCATENATE(Data!AC4,CHAR(10),Data!AD4) -> MH Community Family/All Age | L3: =CONCATENATE(Data!AG4,CHAR(10),Data!AH4) | M3: =CONCATENATE(Data!AE4,CHAR(10),Data!AF4) -> Elizabeth Birrueta
A4: =Data!B5 -> Andrew Fritz | B4: =Data!C5 -> Cheri Goss | C4: =CONCATENATE(Data!D5,CHAR(10),Data!E5,CHAR(10),Data!F5, ", ",Data!G5," ",Data!H5) -> CAMBRIDGE COURT 1350 W 300 N #51A Clearfield, UT 84015 | D4: =CONCATENATE(Data!L5,CHAR(10),"PH: ",Data!M5,CHAR(10),"Fax: ",Data!N5) -> CambridgePark@ PH: 801-973-8987 Fax: | E4: =CONCATENATE(Data!K5,CHAR(10),Data!I5) -> Mitch Rabenstein | F4: =CONCATENATE(Data!O5,CHAR(10),Data!P5,CHAR(10),Data!Q5) -> Rafaelito Rodriquez 801-745-5709 CambridgePark_tech1@ | G4: =CONCATENATE(Data!R5,CHAR(10),Data!S5) -> Shayleena Gaitan 801-618-5750 | H4: =CONCATENATE(Data!T5,CHAR(10),Data!U5) -> Brent Fabian 949-676-1880 | I4: =CONCATENATE(IF(Data!V5<>"",TEXT(Data!V5,"mm-dd-yyy"),""),CHAR(10),Data!W5,CHAR(10),Data!X5) -> 01-07-2019 83-2687542 Cambridge Court MHC, LLC | J4: =IF(ISBLANK(Data!Z5),(Data!Y5&CHAR(10)&Data!AB5),(Data!Y5&CHAR(10)&Data!AA5&Data!Z5&CHAR(10)&Data!AB5)) -> 78 Davis | K4: =CONCATENATE(Data!AC5,CHAR(10),Data!AD5) -> MH Community Family/All Age | L4: =CONCATENATE(Data!AG5,CHAR(10),Data!AH5) | M4: =CONCATENATE(Data!AE5,CHAR(10),Data!AF5) -> Elizabeth Birrueta
A5: =Data!B6 -> Andrew Fritz | B5: =Data!C6 -> Cheri Goss | C5: =CONCATENATE(Data!D6,CHAR(10),Data!E6,CHAR(10),Data!F6, ", ",Data!G6," ",Data!H6) -> CINNAMON RIDGE 300 E 2500 N North Logan, UT 84341 | D5: =CONCATENATE(Data!L6,CHAR(10),"PH: ",Data!M6,CHAR(10),"Fax: ",Data!N6) -> PH: 435-799-7618 Fax: | E5: =CONCATENATE(Data!K6,CHAR(10),Data!I6) -> Laura Van Noy mail & email: Palatial Living | F5: =CONCATENATE(Data!O6,CHAR(10),Data!P6,CHAR(10),Data!Q6) -> George Sisk 435-232-8825 CinnamonRidge_tech1@ | G5: =CONCATENATE(Data!R6,CHAR(10),Data!S6) -> Shayleena Gaitan 801-618-5750 | H5: =CONCATENATE(Data!T6,CHAR(10),Data!U6) -> Brent Fabian 949-676-1880 | I5: =CONCATENATE(IF(Data!V6<>"",TEXT(Data!V6,"mm-dd-yyy"),""),CHAR(10),Data!W6,CHAR(10),Data!X6) -> 12-09-2020 85-3010477 Cinnamon Ridge MHC, LLC | J5: =IF(ISBLANK(Data!Z6),(Data!Y6&CHAR(10)&Data!AB6),(Data!Y6&CHAR(10)&Data!AA6&Data!Z6&CHAR(10)&Data!AB6)) -> 60 Cache | K5: =CONCATENATE(Data!AC6,CHAR(10),Data!AD6) -> MH Community Family/All Age | L5: =CONCATENATE(Data!AG6,CHAR(10),Data!AH6) | M5: =CONCATENATE(Data!AE6,CHAR(10),Data!AF6) -> Elizabeth Birrueta
A6: =Data!B7 -> Andrew Fritz | B6: =Data!C7 -> Cheri Goss | C6: =CONCATENATE(Data!D7,CHAR(10),Data!E7,CHAR(10),Data!F7, ", ",Data!G7," ",Data!H7) -> COTTONWOOD COVES 300 E Gordon Ln Murray, UT 84107 | D6: =CONCATENATE(Data!L7,CHAR(10),"PH: ",Data!M7,CHAR(10),"Fax: ",Data!N7) -> Cottonwood@ PH: 801-266-2631 Fax: 801-268-6414 | E6: =CONCATENATE(Data!K7,CHAR(10),Data!I7) -> Nicolas Cordova | F6: =CONCATENATE(Data!O7,CHAR(10),Data!P7,CHAR(10),Data!Q7) -> Walter Gavin 801-647-2187 | G6: =CONCATENATE(Data!R7,CHAR(10),Data!S7) -> Shayleena Gaitan 801-618-5750 | H6: =CONCATENATE(Data!T7,CHAR(10),Data!U7) -> Brent Fabian 949-676-1880 | I6: =CONCATENATE(IF(Data!V7<>"",TEXT(Data!V7,"mm-dd-yyy"),""),CHAR(10),Data!W7,CHAR(10),Data!X7) -> 02-26-2018 82-3796484 Cottonwood Coves MHC, LLC | J6: =IF(ISBLANK(Data!Z7),(Data!Y7&CHAR(10)&Data!AB7),(Data!Y7&CHAR(10)&Data!AA7&Data!Z7&CHAR(10)&Data!AB7)) -> 176 Salt Lake | K6: =CONCATENATE(Data!AC7,CHAR(10),Data!AD7) -> MH Community Senior/55+ | L6: =CONCATENATE(Data!AG7,CHAR(10),Data!AH7) | M6: =CONCATENATE(Data!AE7,CHAR(10),Data!AF7) -> Elizabeth Birrueta
A7: =Data!B8 -> Andrew Fritz | B7: =Data!C8 -> Cheri Goss | C7: =CONCATENATE(Data!D8,CHAR(10),Data!E8,CHAR(10),Data!F8, ", ",Data!G8," ",Data!H8) -> GREEN ACRES ESTATES 360 West 400 North Springville, UT 84663 | D7: =CONCATENATE(Data!L8,CHAR(10),"PH: ",Data!M8,CHAR(10),"Fax: ",Data!N8) -> GreenAcres@ PH: 385-505-4797 Fax: | E7: =CONCATENATE(Data!K8,CHAR(10),Data!I8) -> Shayleena Gaitan, Area Manager | F7: =CONCATENATE(Data!O8,CHAR(10),Data!P8,CHAR(10),Data!Q8) -> Juan Gaitan 801-671-5619 | G7: =CONCATENATE(Data!R8,CHAR(10),Data!S8) -> Shayleena Gaitan 801-618-5750 | H7: =CONCATENATE(Data!T8,CHAR(10),Data!U8) -> Brent Fabian 949-676-1880 | I7: =CONCATENATE(IF(Data!V8<>"",TEXT(Data!V8,"mm-dd-yyy"),""),CHAR(10),Data!W8,CHAR(10),Data!X8) -> 07-12-2022 88-2598238 IPG Capital Green Acres MHC, LLC | J7: =IF(ISBLANK(Data!Z8),(Data!Y8&CHAR(10)&Data!AB8),(Data!Y8&CHAR(10)&Data!AA8&Data!Z8&CHAR(10)&Data!AB8)) -> 75 Utah | K7: =CONCATENATE(Data!AC8,CHAR(10),Data!AD8) -> MH Community Family/All Age | L7: =CONCATENATE(Data!AG8,CHAR(10),Data!AH8) | M7: =CONCATENATE(Data!AE8,CHAR(10),Data!AF8) -> Elizabeth Birrueta
A8: =Data!B9 -> Andrew Fritz | B8: =Data!C9 -> Cheri Goss | C8: =CONCATENATE(Data!D9,CHAR(10),Data!E9,CHAR(10),Data!F9, ", ",Data!G9," ",Data!H9) -> MONTE VISTA 4595 S Monte Vista Dr Salt Lake City, UT 84123 | D8: =CONCATENATE(Data!L9,CHAR(10),"PH: ",Data!M9,CHAR(10),"Fax: ",Data!N9) -> MonteVista@ PH: 801-268-4401 Fax: | E8: =CONCATENATE(Data!K9,CHAR(10),Data!I9) -> Shellie McHaley mail: PO Box 571468 Murray, UT 84157 | F8: =CONCATENATE(Data!O9,CHAR(10),Data!P9,CHAR(10),Data!Q9) -> Trent McHaley 801-875-0024 | G8: =CONCATENATE(Data!R9,CHAR(10),Data!S9) -> Shayleena Gaitan 801-618-5750 | H8: =CONCATENATE(Data!T9,CHAR(10),Data!U9) -> Brent Fabian 949-676-1880 | I8: =CONCATENATE(IF(Data!V9<>"",TEXT(Data!V9,"mm-dd-yyy"),""),CHAR(10),Data!W9,CHAR(10),Data!X9) -> 05-22-2017 82-0901201 Monte Vista MHC, LLC | J8: =IF(ISBLANK(Data!Z9),(Data!Y9&CHAR(10)&Data!AB9),(Data!Y9&CHAR(10)&Data!AA9&Data!Z9&CHAR(10)&Data!AB9)) -> 159 Salt Lake | K8: =CONCATENATE(Data!AC9,CHAR(10),Data!AD9) -> MH Community Senior/55+ | L8: =CONCATENATE(Data!AG9,CHAR(10),Data!AH9) | M8: =CONCATENATE(Data!AE9,CHAR(10),Data!AF9) -> Elizabeth Birrueta
A9: =Data!B10 -> Andrew Fritz | B9: =Data!C10 -> Cheri Goss | C9: =CONCATENATE(Data!D10,CHAR(10),Data!E10,CHAR(10),Data!F10, ", ",Data!G10," ",Data!H10) -> PALATIAL LIVING 410 W 725 N Logan, UT 84321 | D9: =CONCATENATE(Data!L10,CHAR(10),"PH: ",Data!M10,CHAR(10),"Fax: ",Data!N10) -> Palatial@ PH: 435-899-1754 Fax: | E9: =CONCATENATE(Data!K10,CHAR(10),Data!I10) -> Laura Van Noy | F9: =CONCATENATE(Data!O10,CHAR(10),Data!P10,CHAR(10),Data!Q10) -> George Sisk 435-232-8825 | G9: =CONCATENATE(Data!R10,CHAR(10),Data!S10) -> Shayleena Gaitan 801-618-5750 | H9: =CONCATENATE(Data!T10,CHAR(10),Data!U10) -> Brent Fabian 949-676-1880 | I9: =CONCATENATE(IF(Data!V10<>"",TEXT(Data!V10,"mm-dd-yyy"),""),CHAR(10),Data!W10,CHAR(10),Data!X10) -> 01-17-2020 84-3618037 Palatial Living MHC, LLC | J9: =IF(ISBLANK(Data!Z10),(Data!Y10&CHAR(10)&Data!AB10),(Data!Y10&CHAR(10)&Data!AA10&Data!Z10&CHAR(10)&Data!AB10)) -> 122 Cache | K9: =CONCATENATE(Data!AC10,CHAR(10),Data!AD10) -> MH Community Family/All Age | L9: =CONCATENATE(Data!AG10,CHAR(10),Data!AH10) | M9: =CONCATENATE(Data!AE10,CHAR(10),Data!AF10) -> Elizabeth Birrueta
A10: =Data!B11 -> Andrew Fritz | B10: =Data!C11 -> Cheri Goss | C10: =CONCATENATE(Data!D11,CHAR(10),Data!E11,CHAR(10),Data!F11, ", ",Data!G11," ",Data!H11) -> RIDGEWOOD ESTATES 2875 N Hill Field Rd Layton, UT 84041 | D10: =CONCATENATE(Data!L11,CHAR(10),"PH: ",Data!M11,CHAR(10),"Fax: ",Data!N11) -> Ridgewood@ PH: 801-825-5422 Fax: | E10: =CONCATENATE(Data!K11,CHAR(10),Data!I11) -> Cecilia Avitia-Fiddler | F10: =CONCATENATE(Data!O11,CHAR(10),Data!P11,CHAR(10),Data!Q11) -> Calvin Honneywell 385-519-2271 | G10: =CONCATENATE(Data!R11,CHAR(10),Data!S11) -> Shayleena Gaitan 801-618-5750 | H10: =CONCATENATE(Data!T11,CHAR(10),Data!U11) -> Brent Fabian 949-676-1880 | I10: =CONCATENATE(IF(Data!V11<>"",TEXT(Data!V11,"mm-dd-yyy"),""),CHAR(10),Data!W11,CHAR(10),Data!X11) -> 02-26-2021 85-4212259 Ridgewood Estates MHC, LLC | J10: =IF(ISBLANK(Data!Z11),(Data!Y11&CHAR(10)&Data!AB11),(Data!Y11&CHAR(10)&Data!AA11&Data!Z11&CHAR(10)&Data!AB11)) -> 200 Davis | K10: =CONCATENATE(Data!AC11,CHAR(10),Data!AD11) -> MH Community Family/All Age | L10: =CONCATENATE(Data!AG11,CHAR(10),Data!AH11) | M10: =CONCATENATE(Data!AE11,CHAR(10),Data!AF11) -> Elizabeth Birrueta
A11: =Data!B12 -> Andrew Fritz | B11: =Data!C12 -> Cheri Goss | C11: =CONCATENATE(Data!D12,CHAR(10),Data!E12,CHAR(10),Data!F12, ", ",Data!G12," ",Data!H12) -> TIMPANOGOS VILLAGE pending Acquisition 155 1200 W Orem, UT 84058 | D11: =CONCATENATE(Data!L12,CHAR(10),"PH: ",Data!M12,CHAR(10),"Fax: ",Data!N12) -> PH: 801-225-2500 Fax: | E11: =CONCATENATE(Data!K12,CHAR(10),Data!I12) -> pending Acquisition est. 3/31 to 5/21 | F11: =CONCATENATE(Data!O12,CHAR(10),Data!P12,CHAR(10),Data!Q12) | G11: =CONCATENATE(Data!R12,CHAR(10),Data!S12) -> Shayleena Gaitan 801-618-5750 | H11: =CONCATENATE(Data!T12,CHAR(10),Data!U12) -> Brent Fabian 949-676-1880 | I11: =CONCATENATE(IF(Data!V12<>"",TEXT(Data!V12,"mm-dd-yyy"),""),CHAR(10),Data!W12,CHAR(10),Data!X12) | J11: =IF(ISBLANK(Data!Z12),(Data!Y12&CHAR(10)&Data!AB12),(Data!Y12&CHAR(10)&Data!AA12&Data!Z12&CHAR(10)&Data!AB12)) -> 142 Utah | K11: =CONCATENATE(Data!AC12,CHAR(10),Data!AD12) -> MH Community Family/All Age | L11: =CONCATENATE(Data!AG12,CHAR(10),Data!AH12) | M11: =CONCATENATE(Data!AE12,CHAR(10),Data!AF12) -> Elizabeth Birrueta
A12: =Data!B13 -> Andrew Fritz | B12: =Data!C13 -> Cheri Goss | C12: =CONCATENATE(Data!D13,CHAR(10),Data!E13,CHAR(10),Data!F13, ", ",Data!G13," ",Data!H13) -> WILLOW PINES 680 N Main St #A-1 Kaysville, UT 84037 | D12: =CONCATENATE(Data!L13,CHAR(10),"PH: ",Data!M13,CHAR(10),"Fax: ",Data!N13) -> WillowPines@ PH: 801-644-7612 Fax: | E12: =CONCATENATE(Data!K13,CHAR(10),Data!I13) -> Patricia Blake | F12: =CONCATENATE(Data!O13,CHAR(10),Data!P13,CHAR(10),Data!Q13) -> Rafaelito Rodriquez 801-745-5709 | G12: =CONCATENATE(Data!R13,CHAR(10),Data!S13) -> Shayleena Gaitan 801-618-5750 | H12: =CONCATENATE(Data!T13,CHAR(10),Data!U13) -> Brent Fabian 949-676-1880 | I12: =CONCATENATE(IF(Data!V13<>"",TEXT(Data!V13,"mm-dd-yyy"),""),CHAR(10),Data!W13,CHAR(10),Data!X13) -> 07-12-2019 84-1876882 Willow Pines MHC, LLC | J12: =IF(ISBLANK(Data!Z13),(Data!Y13&CHAR(10)&Data!AB13),(Data!Y13&CHAR(10)&Data!AA13&Data!Z13&CHAR(10)&Data!AB13)) -> 120 1SFR (stick built) Davis | K12: =CONCATENATE(Data!AC13,CHAR(10),Data!AD13) -> MH Community Family/All Age | L12: =CONCATENATE(Data!AG13,CHAR(10),Data!AH13) | M12: =CONCATENATE(Data!AE13,CHAR(10),Data!AF13) -> Elizabeth Birrueta
A13: =Data!B14 -> Andrew Fritz | B13: =Data!C14 -> Cheri Goss | C13: =CONCATENATE(Data!D14,CHAR(10),Data!E14,CHAR(10),Data!F14, ", ",Data!G14," ",Data!H14) -> WINCHESTER ESTATES 6409 S 990 W Murray, UT 84123 | D13: =CONCATENATE(Data!L14,CHAR(10),"PH: ",Data!M14,CHAR(10),"Fax: ",Data!N14) -> Winchester@ PH: 801-262-3101 Fax: 801-401-7835 | E13: =CONCATENATE(Data!K14,CHAR(10),Data!I14) -> Shayleena Gaitan, Area Manager | F13: =CONCATENATE(Data!O14,CHAR(10),Data!P14,CHAR(10),Data!Q14) -> Juan Gaitan 801-671-5619 | G13: =CONCATENATE(Data!R14,CHAR(10),Data!S14) -> Shayleena Gaitan 801-618-5750 | H13: =CONCATENATE(Data!T14,CHAR(10),Data!U14) -> Brent Fabian 949-676-1880 | I13: =CONCATENATE(IF(Data!V14<>"",TEXT(Data!V14,"mm-dd-yyy"),""),CHAR(10),Data!W14,CHAR(10),Data!X14) -> 01-11-2016 84-21082357 Winchester MHC, LLC | J13: =IF(ISBLANK(Data!Z14),(Data!Y14&CHAR(10)&Data!AB14),(Data!Y14&CHAR(10)&Data!AA14&Data!Z14&CHAR(10)&Data!AB14)) -> 242 Salt Lake | K13: =CONCATENATE(Data!AC14,CHAR(10),Data!AD14) -> MH Community Senior/55+ | L13: =CONCATENATE(Data!AG14,CHAR(10),Data!AH14) | M13: =CONCATENATE(Data!AE14,CHAR(10),Data!AF14) -> Elizabeth Birrueta
... A74: =Data!B75 -> Rashelle Wedgwood | B74: =Data!C75 -> Hannah Porter | C74: =CONCATENATE(Data!D75,CHAR(10),Data!E75,CHAR(10),Data!F75, ", ",Data!G75," ",Data!H75) -> HANGAR 128 13031 8th Ave W Everett, WA 98204 | D74: =CONCATENATE(Data!L75,CHAR(10),"PH: ",Data!M75,CHAR(10),"Fax: ",Data!N75) -> Hangar128@ PH: 425-347-0900 Fax: 425-610-4130 | E74: =CONCATENATE(Data!K75,CHAR(10),Data!I75) -> Melissa Goldberg | F74: =CONCATENATE(Data!O75,CHAR(10),Data!P75,CHAR(10),Data!Q75) -> Todd Brennan Hangar_maint@ | G74: =CONCATENATE(Data!R75,CHAR(10),Data!S75) | H74: =CONCATENATE(Data!T75,CHAR(10),Data!U75) -> Brent Fabian 949-676-1880 | I74: =CONCATENATE(IF(Data!V75<>"",TEXT(Data!V75,"mm-dd-yyy"),""),CHAR(10),Data!W75,CHAR(10),Data!X75) -> 02-15-2017 81-5143786 Hangar 128 Apartments, LLC | J74: =IF(ISBLANK(Data!Z75),(Data!Y75&CHAR(10)&Data!AB75),(Data!Y75&CHAR(10)&Data!AA75&Data!Z75&CHAR(10)&Data!AB75)) -> 223 Snohomish | K74: =CONCATENATE(Data!AC75,CHAR(10),Data!AD75) -> Conventional Family/All Age | L74: =CONCATENATE(Data!AG75,CHAR(10),Data!AH75) | M74: =CONCATENATE(Data!AE75,CHAR(10),Data!AF75) -> Bella Walton Megan Schellhorn
A75: =Data!B76 -> Rashelle Wedgwood | B75: =Data!C76 -> Hannah Porter | C75: =CONCATENATE(Data!D76,CHAR(10),Data!E76,CHAR(10),Data!F76, ", ",Data!G76," ",Data!H76) -> PORTAGE GREEN 20227 80th Ave NE #3 Arlington, WA 98223 | D75: =CONCATENATE(Data!L76,CHAR(10),"PH: ",Data!M76,CHAR(10),"Fax: ",Data!N76) -> Portage@ PH: 360-435-1066 Fax: 360-435-6313 | E75: =CONCATENATE(Data!J76,CHAR(10),Data!I76) | F75: =CONCATENATE(Data!O76,CHAR(10),Data!P76,CHAR(10),Data!Q76) | G75: =CONCATENATE(Data!R76,CHAR(10),Data!S76) | H75: =CONCATENATE(Data!T76,CHAR(10),Data!U76) -> Brent Fabian 949-676-1880 | I75: =CONCATENATE(IF(Data!V76<>"",TEXT(Data!V76,"mm-dd-yyy"),""),CHAR(10),Data!W76,CHAR(10),Data!X76) -> 04-28-2005 51-0549377 Portage Green MHC, LLC | J75: =IF(ISBLANK(Data!Z76),(Data!Y76&CHAR(10)&Data!AB76),(Data!Y76&CHAR(10)&Data!AA76&Data!Z76&CHAR(10)&Data!AB76)) -> 79 Snohomish | K75: =CONCATENATE(Data!AC76,CHAR(10),Data!AD76) -> MH Community Family/All Age | L75: =CONCATENATE(Data!AG76,CHAR(10),Data!AH76) | M75: =CONCATENATE(Data!AE76,CHAR(10),Data!AF76) -> Deborah Kemp
A76: =Data!B77 -> Rashelle Wedgwood | B76: =Data!C77 -> Hannah Porter | C76: =CONCATENATE(Data!D77,CHAR(10),Data!E77,CHAR(10),Data!F77, ", ",Data!G77," ",Data!H77) -> VALLEY VIEW 700 North Reed St #41 Sedro Woolley, WA 98284 | D76: =CONCATENATE(Data!L77,CHAR(10),"PH: ",Data!M77,CHAR(10),"Fax: ",Data!N77) -> ValleyView@ PH: 360-856-4551 Fax: 360-856-5772 | E76: =CONCATENATE(Data!K77,CHAR(10),Data!I77) -> Robert Olp | F76: =CONCATENATE(Data!O77,CHAR(10),Data!P77,CHAR(10),Data!Q77) | G76: =CONCATENATE(Data!R77,CHAR(10),Data!S77) | H76: =CONCATENATE(Data!T77,CHAR(10),Data!U77) -> Brent Fabian 949-676-1880 | I76: =CONCATENATE(IF(Data!V77<>"",TEXT(Data!V77,"mm-dd-yyy"),""),CHAR(10),Data!W77,CHAR(10),Data!X77) -> 09-26-2011 90-0749044 Valley View MHC, LLC | J76: =IF(ISBLANK(Data!Z77),(Data!Y77&CHAR(10)&Data!AB77),(Data!Y77&CHAR(10)&Data!AA77&Data!Z77&CHAR(10)&Data!AB77)) -> 104 Skagit | K76: =CONCATENATE(Data!AC77,CHAR(10),Data!AD77) -> MH Community Family/All Age | L76: =CONCATENATE(Data!AG77,CHAR(10),Data!AH77) | M76: =CONCATENATE(Data!AE77,CHAR(10),Data!AF77) -> Deborah Kemp
A77: =Data!B78 -> Rashelle Wedgwood | B77: =Data!C78 -> Hannah Porter | C77: =CONCATENATE(Data!D78,CHAR(10),Data!E78,CHAR(10),Data!F78, ", ",Data!G78," ",Data!H78) -> WATERFORD pending Disposition 2020 Lake Heights Dr Everett, WA 98208 | D77: =CONCATENATE(Data!L78,CHAR(10),"PH: ",Data!M78,CHAR(10),"Fax: ",Data!N78) -> Waterford@ PH: 425-337-9270 Fax: 425-337-9280 | E77: =CONCATENATE(Data!K78,CHAR(10),Data!I78) -> Lauren Harris Disposition est. 3/18 to 4/17 | F77: =CONCATENATE(Data!O78,CHAR(10),Data!P78,CHAR(10),Data!Q78) -> Open Position Waterford_maint@ | G77: =CONCATENATE(Data!R78,CHAR(10),Data!S78) | H77: =CONCATENATE(Data!T78,CHAR(10),Data!U78) -> Brent Fabian 949-676-1880 | I77: =CONCATENATE(IF(Data!V78<>"",TEXT(Data!V78,"mm-dd-yyy"),""),CHAR(10),Data!W78,CHAR(10),Data!X78) -> 10-11-2016 84-1869590 Waterford Apartments, LLC | J77: =IF(ISBLANK(Data!Z78),(Data!Y78&CHAR(10)&Data!AB78),(Data!Y78&CHAR(10)&Data!AA78&Data!Z78&CHAR(10)&Data!AB78)) -> 200 Snohomish | K77: =CONCATENATE(Data!AC78,CHAR(10),Data!AD78) -> Conventional Family/All Age | L77: =CONCATENATE(Data!AG78,CHAR(10),Data!AH78) | M77: =CONCATENATE(Data!AE78,CHAR(10),Data!AF78) -> Bella Walton Megan Schellhorn
A78: =Data!B79 -> Rashelle Wedgwood | B78: =Data!C79 -> Josh Van Noy | C78: =CONCATENATE(Data!D79,CHAR(10),Data!E79,CHAR(10),Data!F79, ", ",Data!G79," ",Data!H79) -> ALYSON MANOR ESTATES 2021 Mahan Ave Richland, WA 99354 | D78: =CONCATENATE(Data!L79,CHAR(10),"PH: ",Data!M79,CHAR(10),"Fax: ",Data!N79) -> Alyson@ PH: 509-940-9050 Fax: | E78: =CONCATENATE(Data!K79,CHAR(10),Data!I79) -> Adrianna Hickson | F78: =CONCATENATE(Data!O79,CHAR(10),Data!P79,CHAR(10),Data!Q79) -> Kyle Ellis | G78: =CONCATENATE(Data!R79,CHAR(10),Data!S79) | H78: =CONCATENATE(Data!T79,CHAR(10),Data!U79) -> Chris Bowden 949-486-7153 | I78: =CONCATENATE(IF(Data!V79<>"",TEXT(Data!V79,"mm-dd-yyy"),""),CHAR(10),Data!W79,CHAR(10),Data!X79) -> 08-10-2016 81-2877481 Alyson/Richland MHC, LLC | J78: =IF(ISBLANK(Data!Z79),(Data!Y79&CHAR(10)&Data!AB79),(Data!Y79&CHAR(10)&Data!AA79&Data!Z79&CHAR(10)&Data!AB79)) -> 127 Benton | K78: =CONCATENATE(Data!AC79,CHAR(10),Data!AD79) -> MH Community Family/All Age | L78: =CONCATENATE(Data!AG79,CHAR(10),Data!AH79) | M78: =CONCATENATE(Data!AE79,CHAR(10),Data!AF79) -> Deborah Kemp
A79: =Data!B80 -> Rashelle Wedgwood | B79: =Data!C80 -> Josh Van Noy | C79: =CONCATENATE(Data!D80,CHAR(10),Data!E80,CHAR(10),Data!F80, ", ",Data!G80," ",Data!H80) -> BROADMOOR 55 W Washington Ave Yakima, WA 98903 | D79: =CONCATENATE(Data!L80,CHAR(10),"PH: ",Data!M80,CHAR(10),"Fax: ",Data!N80) -> Broadmoor@ PH: 509-457-8038 Fax: 509-457-2045 | E79: =CONCATENATE(Data!K80,CHAR(10),Data!I80) -> Justina Bauer | F79: =CONCATENATE(Data!O80,CHAR(10),Data!P80,CHAR(10),Data!Q80) -> Deshawn Stephens 509-833-6917 | G79: =CONCATENATE(Data!R80,CHAR(10),Data!S80) | H79: =CONCATENATE(Data!T80,CHAR(10),Data!U80) -> Chris Bowden 949-486-7153 | I79: =CONCATENATE(IF(Data!V80<>"",TEXT(Data!V80,"mm-dd-yyy"),""),CHAR(10),Data!W80,CHAR(10),Data!X80) -> 10-31-2018 83-1910433 Broadmoor MHC, LLC | J79: =IF(ISBLANK(Data!Z80),(Data!Y80&CHAR(10)&Data!AB80),(Data!Y80&CHAR(10)&Data!AA80&Data!Z80&CHAR(10)&Data!AB80)) -> 200 Yamiz | K79: =CONCATENATE(Data!AC80,CHAR(10),Data!AD80) -> MH Community Senior/55+ | L79: =CONCATENATE(Data!AG80,CHAR(10),Data!AH80) | M79: =CONCATENATE(Data!AE80,CHAR(10),Data!AF80) -> Deborah Kemp
A80: =Data!B81 -> Rashelle Wedgwood | B80: =Data!C81 -> Josh Van Noy | C80: =CONCATENATE(Data!D81,CHAR(10),Data!E81,CHAR(10),Data!F81, ", ",Data!G81," ",Data!H81) -> BROOKHOLLOW MHC 2500 Allen St Kelso, WA 98626 | D80: =CONCATENATE(Data!L81,CHAR(10),"PH: ",Data!M81,CHAR(10),"Fax: ",Data!N81) -> Brookhollow@ PH: 360-577-6276 Fax: | E80: =CONCATENATE(Data!K81,CHAR(10),Data!I81) -> Chuck Garcia | F80: =CONCATENATE(Data!O81,CHAR(10),Data!P81,CHAR(10),Data!Q81) -> Josh Watson 202-300-1788 Brookhollow_maint@ | G80: =CONCATENATE(Data!R81,CHAR(10),Data!S81) | H80: =CONCATENATE(Data!T81,CHAR(10),Data!U81) -> Chris Bowden 949-486-7153 | I80: =CONCATENATE(IF(Data!V81<>"",TEXT(Data!V81,"mm-dd-yyy"),""),CHAR(10),Data!W81,CHAR(10),Data!X81) -> 01-29-2016 38-3817983 Brookhollow MHC, LLC | J80: =IF(ISBLANK(Data!Z81),(Data!Y81&CHAR(10)&Data!AB81),(Data!Y81&CHAR(10)&Data!AA81&Data!Z81&CHAR(10)&Data!AB81)) -> 194 Cowlitz | K80: =CONCATENATE(Data!AC81,CHAR(10),Data!AD81) -> MH Community Senior/55+ | L80: =CONCATENATE(Data!AG81,CHAR(10),Data!AH81) | M80: =CONCATENATE(Data!AE81,CHAR(10),Data!AF81) -> Deborah Kemp
A81: =Data!B82 -> Rashelle Wedgwood | B81: =Data!C82 -> Josh Van Noy | C81: =CONCATENATE(Data!D82,CHAR(10),Data!E82,CHAR(10),Data!F82, ", ",Data!G82," ",Data!H82) -> BROOKHOLLOW RV 2506 Allen St Kelso, WA 98626 | D81: =CONCATENATE(Data!L82,CHAR(10),"PH: ",Data!M82,CHAR(10),"Fax: ",Data!N82) -> BrookhollowRV@ PH: 360-577-6474 Fax: | E81: =CONCATENATE(Data!K82,CHAR(10),Data!I82) -> Chuck Garcia | F81: =CONCATENATE(Data!O82,CHAR(10),Data!P82,CHAR(10),Data!Q82) -> Josh Watson 202-300-1788 Brookhollow_maint@ | G81: =CONCATENATE(Data!R82,CHAR(10),Data!S82) | H81: =CONCATENATE(Data!T82,CHAR(10),Data!U82) -> Chris Bowden 949-486-7153 | I81: =CONCATENATE(IF(Data!V82<>"",TEXT(Data!V82,"mm-dd-yyy"),""),CHAR(10),Data!W82,CHAR(10),Data!X82) -> 01-29-2016 37-1608067 Brookhollow RV, LLC | J81: =IF(ISBLANK(Data!Z82),(Data!Y82&CHAR(10)&Data!AB82),(Data!Y82&CHAR(10)&Data!AA82&Data!Z82&CHAR(10)&Data!AB82)) -> 0 132RV Park Cowlitz | K81: =CONCATENATE(Data!AC82,CHAR(10),Data!AD82) -> MH Community Family/All Age | L81: =CONCATENATE(Data!AG82,CHAR(10),Data!AH82) | M81: =CONCATENATE(Data!AE82,CHAR(10),Data!AF82) -> Deborah Kemp
A82: =Data!B83 -> Rashelle Wedgwood | B82: =Data!C83 -> Josh Van Noy | C82: =CONCATENATE(Data!D83,CHAR(10),Data!E83,CHAR(10),Data!F83, ", ",Data!G83," ",Data!H83) -> COLUMBIA TERRACE ESTATES 5400 Meeker Dr # 15 Kalama, WA 98625 | D82: =CONCATENATE(Data!L83,CHAR(10),"PH: ",Data!M83,CHAR(10),"Fax: ",Data!N83) -> Columbia@ PH: 360-430-5122 Fax: 360-326-7030 | E82: =CONCATENATE(Data!K83,CHAR(10),Data!I83) -> Christine Perez | F82: =CONCATENATE(Data!O83,CHAR(10),Data!P83,CHAR(10),Data!Q83) -> Lowell Fittro Columbia_tech1@ | G82: =CONCATENATE(Data!R83,CHAR(10),Data!S83) | H82: =CONCATENATE(Data!T83,CHAR(10),Data!U83) -> Chris Bowden 949-486-7153 | I82: =CONCATENATE(IF(Data!V83<>"",TEXT(Data!V83,"mm-dd-yyy"),""),CHAR(10),Data!W83,CHAR(10),Data!X83) -> 5/16/20218 82-4871624 Columbia Terrace MHC, LLC | J82: =IF(ISBLANK(Data!Z83),(Data!Y83&CHAR(10)&Data!AB83),(Data!Y83&CHAR(10)&Data!AA83&Data!Z83&CHAR(10)&Data!AB83)) -> 128 Cowlitz | K82: =CONCATENATE(Data!AC83,CHAR(10),Data!AD83) -> MH Community Family/All Age | L82: =CONCATENATE(Data!AG83,CHAR(10),Data!AH83) | M82: =CONCATENATE(Data!AE83,CHAR(10),Data!AF83) -> Deborah Kemp
A83: =Data!B84 -> Rashelle Wedgwood | B83: =Data!C84 -> Josh Van Noy | C83: =CONCATENATE(Data!D84,CHAR(10),Data!E84,CHAR(10),Data!F84, ", ",Data!G84," ",Data!H84) -> COUNTRY CLUB ESTATES 23708 Locust Way Bothell, WA 98021 | D83: =CONCATENATE(Data!L84,CHAR(10),"PH: ",Data!M84,CHAR(10),"Fax: ",Data!N84) -> CountryClub@ PH: 425-481-5900 Fax: 360-416-0968 | E83: =CONCATENATE(Data!K84,CHAR(10),Data!I84) -> Lucy Yelistratova | F83: =CONCATENATE(Data!O84,CHAR(10),Data!P84,CHAR(10),Data!Q84) -> Hugo Perez | G83: =CONCATENATE(Data!R84,CHAR(10),Data!S84) | H83: =CONCATENATE(Data!T84,CHAR(10),Data!U84) -> Chris Bowden 949-486-7153 | I83: =CONCATENATE(IF(Data!V84<>"",TEXT(Data!V84,"mm-dd-yyy"),""),CHAR(10),Data!W84,CHAR(10),Data!X84) -> 12-13-2013 46-3466443 Country Club Senior Estates, LLC | J83: =IF(ISBLANK(Data!Z84),(Data!Y84&CHAR(10)&Data!AB84),(Data!Y84&CHAR(10)&Data!AA84&Data!Z84&CHAR(10)&Data!AB84)) -> 137 King | K83: =CONCATENATE(Data!AC84,CHAR(10),Data!AD84) -> MH Community Family/All Age | L83: =CONCATENATE(Data!AG84,CHAR(10),Data!AH84) | M83: =CONCATENATE(Data!AE84,CHAR(10),Data!AF84) -> Deborah Kemp
A84: =Data!B85 -> Rashelle Wedgwood | B84: =Data!C85 -> Josh Van Noy | C84: =CONCATENATE(Data!D85,CHAR(10),Data!E85,CHAR(10),Data!F85, ", ",Data!G85," ",Data!H85) -> COUNTRY MANOR 15619 NE Caples Rd #33 Brush Prairie, WA 98606 | D84: =CONCATENATE(Data!L85,CHAR(10),"PH: ",Data!M85,CHAR(10),"Fax: ",Data!N85) -> CountryManor@ PH: 360-256-6120 Fax: | E84: =CONCATENATE(Data!K85,CHAR(10),Data!I85) -> Shirley Shook | F84: =CONCATENATE(Data!O85,CHAR(10),Data!P85,CHAR(10),Data!Q85) -> David Shook | G84: =CONCATENATE(Data!R85,CHAR(10),Data!S85) | H84: =CONCATENATE(Data!T85,CHAR(10),Data!U85) -> Chris Bowden 949-486-7153 | I84: =CONCATENATE(IF(Data!V85<>"",TEXT(Data!V85,"mm-dd-yyy"),""),CHAR(10),Data!W85,CHAR(10),Data!X85) -> 10-15-2018 83-1182648 Country Manor Estates MHC, LLC | J84: =IF(ISBLANK(Data!Z85),(Data!Y85&CHAR(10)&Data!AB85),(Data!Y85&CHAR(10)&Data!AA85&Data!Z85&CHAR(10)&Data!AB85)) -> 159 Clark | K84: =CONCATENATE(Data!AC85,CHAR(10),Data!AD85) -> MH Community Family/All Age | L84: =CONCATENATE(Data!AG85,CHAR(10),Data!AH85) | M84: =CONCATENATE(Data!AE85,CHAR(10),Data!AF85) -> Deborah Kemp
A85: =Data!B86 -> Rashelle Wedgwood | B85: =Data!C86 -> Josh Van Noy | C85: =CONCATENATE(Data!D86,CHAR(10),Data!E86,CHAR(10),Data!F86, ", ",Data!G86," ",Data!H86) -> DUVALL HIGHLANDS 28000 NE 142nd Pl Duvall, WA 98019 | D85: =CONCATENATE(Data!L86,CHAR(10),"PH: ",Data!M86,CHAR(10),"Fax: ",Data!N86) -> Duvall@ PH: 425-788-4778 Fax: 425-844-6034 | E85: =CONCATENATE(Data!K86,CHAR(10),Data!I86) -> Gayla Williams | F85: =CONCATENATE(Data!O86,CHAR(10),Data!P86,CHAR(10),Data!Q86) -> Nicholas Kiepke | G85: =CONCATENATE(Data!R86,CHAR(10),Data!S86) | H85: =CONCATENATE(Data!T86,CHAR(10),Data!U86) -> Chris Bowden 949-486-7153 | I85: =CONCATENATE(IF(Data!V86<>"",TEXT(Data!V86,"mm-dd-yyy"),""),CHAR(10),Data!W86,CHAR(10),Data!X86) -> 04-12-2006 06-1757892 Duvall Highlands MHC, LLC | J85: =IF(ISBLANK(Data!Z86),(Data!Y86&CHAR(10)&Data!AB86),(Data!Y86&CHAR(10)&Data!AA86&Data!Z86&CHAR(10)&Data!AB86)) -> 150 King | K85: =CONCATENATE(Data!AC86,CHAR(10),Data!AD86) -> MH Community Family/All Age | L85: =CONCATENATE(Data!AG86,CHAR(10),Data!AH86) | M85: =CONCATENATE(Data!AE86,CHAR(10),Data!AF86) -> Deborah Kemp
A86: =Data!B87 -> Rashelle Wedgwood | B86: =Data!C87 -> Josh Van Noy | C86: =CONCATENATE(Data!D87,CHAR(10),Data!E87,CHAR(10),Data!F87, ", ",Data!G87," ",Data!H87) -> FAIR OAKS ESTATES 5404 NE 121st Ave Vancouver, WA 98682 | D86: =CONCATENATE(Data!L87,CHAR(10),"PH: ",Data!M87,CHAR(10),"Fax: ",Data!N87) -> FairOaks@ PH: 360-892-9950 Fax: 360-892-1230 | E86: =CONCATENATE(Data!K87,CHAR(10),Data!I87) -> Terry Mudroch | F86: =CONCATENATE(Data!O87,CHAR(10),Data!P87,CHAR(10),Data!Q87) -> Joseph Mahoney | G86: =CONCATENATE(Data!R87,CHAR(10),Data!S87) | H86: =CONCATENATE(Data!T87,CHAR(10),Data!U87) -> Chris Bowden 949-486-7153 | I86: =CONCATENATE(IF(Data!V87<>"",TEXT(Data!V87,"mm-dd-yyy"),""),CHAR(10),Data!W87,CHAR(10),Data!X87) -> 10-31-2002 48-1271671 Fair Oaks Estates, LLC | J86: =IF(ISBLANK(Data!Z87),(Data!Y87&CHAR(10)&Data!AB87),(Data!Y87&CHAR(10)&Data!AA87&Data!Z87&CHAR(10)&Data!AB87)) -> 110 Clark | K86: =CONCATENATE(Data!AC87,CHAR(10),Data!AD87) -> MH Community Senior/55+ | L86: =CONCATENATE(Data!AG87,CHAR(10),Data!AH87) | M86: =CONCATENATE(Data!AE87,CHAR(10),Data!AF87) -> Deborah Kemp
